Workbook
Name A: #REF!
Name AB: [1]chif!$G$6:$I$14
Name ABBES: #REF!
Name aout: #REF!
Name aout: #REF!
Name aout: #REF!
Name aout: #REF!
Name aout: #REF!
Name avril: #REF!
Name avril: #REF!
Name avril: #REF!
Name avril: #REF!
Name avril: #REF!
Name banq: #REF!
Name banq: #REF!
Name banq: #REF!
Name banq: #REF!
Name banq: #REF!
Name Benif: #REF!
Name Benif: #REF!
Name Benif: #REF!
Name Benif: #REF!
Name Benif: #REF!
Name code: #REF!
Name code: #REF!
Name code: #REF!
Name code: #REF!
Name code: #REF!
Name da: #REF!
Name da: #REF!
Name da: #REF!
Name da: #REF!
Name da: #REF!
Name DATE: [2]Recettes!$A$2
Name date_depi: [3]Recettes!$A$2
Name date_depi: [3]Recettes!$A$2
Name date_depi: [3]Recettes!$A$2
Name date_depi: [3]Recettes!$A$2
Name date_depi: [4]Recettes!$A$2
Name décembre: #REF!
Name décembre: #REF!
Name décembre: #REF!
Name décembre: #REF!
Name décembre: #REF!
Name fevrier: #REF!
Name fevrier: #REF!
Name fevrier: #REF!
Name fevrier: #REF!
Name fevrier: #REF!
Name fffff: #REF!
Name founis: #REF!
Name founis: #REF!
Name founis: #REF!
Name founis: #REF!
Name founis: #REF!
Name fournis: #REF!
Name fournis: #REF!
Name fournis: #REF!
Name fournis: #REF!
Name fournis: #REF!

Sheet الفهرس
A2: حوصلــة ميزانية المؤسسة التعليمية لسنة | I2: 2025
A3: الإيــرادات | F3: الـمــصاريـــف
A4: الـفـــرع 1 : الإيـــــــــــــرادات | F4: الفرع الأول: نفقات تسيير المصالح
A5: الأبواب | B5: المواد | C5: الــعـــنـــــاويــــن | D5: الإيرادات المالية (دج) | F5: الأبواب | H5: المواد | I5: المدونة الحالية للمؤسسة العمومية | J5: رخص الإلتزام (دج) | K5: اعتمادات الدفع (دج)
A6: 1 | B6: 1 | C6: إعانات تسيير المصالح | D6: 0 | F6: الـــــــــــــــــــــــبـــــــــــــــــــــــــــــــــــــــــــــــــــــــــــــــــــــــاب الـــثـــــــــــــــــانـــــــــــــــــــــــــــــــــــــــــــــــــــــــــــــــــــــــــــــــــــي (T2) | G6: باب 01 | H6: 1 | I6: مصاريف المهام و التنقلات والاستقبالات داخل التراب الوطني و الخرجات البيداغوجية | J6: 0 | K6: =SUM(J6) -> 0
B7: 2 | C7: منح الداخلي ونصف الداخلي والتجهيز | D7: 0 | H7: 2 | I7: مصاريف الدراسة، الخبرة، المحامون والمحضرون القضائيون | J7: 0 | K7: =SUM(J7) -> 0
B8: 3 | C8: إعانات التسيير وحدة الكشف و المتابعة | D8: 0 | H8: مــجــمــــــــــــــوع الـــبـــــــــــــاب 01 تسديد المصاريف | J8: =SUM(J6:J7) -> 0 | K8: =SUM(J8) -> 0
B9: 4 | C9: الإعانة الخاصة بأولمبياد المواد التعليمية | D9: 0
B10: مــجــمــــــــــــــوع الـــبـــــــــــــاب 01 الإعانات الممنوحة من طرف الدولة | D10: =SUM(D6:D9) -> 0 | G10: باب 02 | H10: 1 | I10: الماء، الكهرباء و الغاز، الوقود، والطاقة الشمسية | J10: 0 | K10: =SUM(J10) -> 0
A11: 2 | B11: 1 | C11: الإعانات الممنوحة من الجماعات المحلية و المؤسسات والهيئات العمومية | D11: 0 | H11: 2 | I11: مصاريف البريد والمواصلات ( اتاوات الهاتف، التلكس، الانترنيت والرسوم المختلفة ) | J11: 0 | K11: =SUM(J11) -> 0
A12: 3 | B12: 1 | C12: =ص1!B9 -> الهبات و الوصايا | D12: 0 | H12: 3 | I12: مصاريف الإعلان في الصحف (الإستشارة) | J12: 0 | K12: =SUM(J12) -> 0
A13: 4 | B13: 1 | C13: إيرادات مرتبطة بنشاط المؤسسة | D13: 0 | H13: 4 | I13: تعويض مصاريف الاستهلاك المنزلي للكهرباء و الغاز بنسبة 50% للجنوب الكبير | J13: 0 | K13: =SUM(J13) -> 0
A14: 5 | B14: 1 | C14: إيرادات مختلفة | D14: 0 | H14: 5 | I14: اقتناء و تركيب لواحق الهاتف والربط بالأنترنيت | J14: 0 | K14: =SUM(J14) -> 0
A15: 6 | B15: 1 | C15: إيرادات ناتجة عن حقوق التسجيل وعائلات التلاميذ | D15: 0 | H15: 6 | I15: تأمين المباني | J15: 0 | K15: =SUM(J15) -> 0
A16: 7 | B16: 1 | C16: مساهمات عائلات التلاميذ | D16: 0 | H16: مــجــمــــــــــــــوع الـــبـــــــــــــاب 02 التكاليف الملحقة | J16: =SUM(J10:J15) -> 0 | K16: =SUM(J16) -> 0
B17: 2 | C17: إيرادات ناتجة عن إطعام مستخدمي قطاع التربية | D17: 0 | G17: باب 03 | H17: 1 | I17: اقتناء لوازم المكتب | J17: 0 | K17: =SUM(J17) -> 0
B18: 3 | C18: إيرادات ناتجة عن إطعام تلاميذ مؤسسات أخرى، المدعوين وآخرون | D18: 0 | H18: 2 | I18: مستهلكات وبرامج الإعلام الآلي | J18: 0 | K18: =SUM(J18) -> 0
B19: مــجــمــــــــــــــوع الـــبـــــــــــــاب 07 إيرادات الإطعام | D19: =SUM(D16:D18) -> 0 | H19: 3 | I19: مصاريف النسخ والطبع | J19: 0 | K19: =SUM(J19) -> 0
A20: 8 | B20: 1 | C20: الإعانة الخاصة بالنشاط التربوي الإستثنائي | D20: 0 | H20: 4 | I20: البياضة | J20: 0 | K20: =SUM(J20) -> 0
A21: 9 | B21: 1 | C21: =ص1!B15 -> إيرادات خاصة بالتحسين المستمر للمستوى المنظم على المستوى الولائي، نفقات التكوين ما قبل الترقية ونفقات الامتحانات | D21: 0 | H21: 5 | I21: المواد الصيدلانية ومواد الأخرى | J21: 0 | K21: =SUM(J21) -> 0
A22: 10 | B22: 1 | C22: =ص1!B16 -> إيرادات خاصة بتشجيع التكوين أثناء الخدمة وعن بعد لمعلمي التعليم الابتدائي | D22: 0 | H22: 6 | I22: مواد التنظيف | J22: 0 | K22: =SUM(J22) -> 0
A23: 11 | B23: 1 | C23: =ص1!B17 -> إيرادات خاصة بالتحسين المستمر للمستوى المنظم على المستوى الجهوي و/أو الوطني ، التكوين ما قبل الترقية، نفقات الإمتحانات | D23: 0 | H23: مــجــمــــــــــــــوع الـــبـــــــــــــاب 03 اللوازم | J23: =SUM(J17:J22) -> 0 | K23: =SUM(J23) -> 0
G24: باب 04 | H24: 1 | I24: تجديد وصيانة أدوات وأثاث المكاتب والعتاد المدرسي | J24: 0 | K24: =SUM(J24) -> 0
A25: المجــمـــوع الـعــــام للإيــرادات = | D25: =D10+D11+D12+D13+D14+D15+D19+D20+D21+D22+D23 -> 0 | H25: 2 | I25: اقتناء و صيانة أجهزة الإعلام الآلي | J25: 0 | K25: =SUM(J25) -> 0
H26: 3 | I26: اقتناء وصيانة أدوات الوقاية والأمن | J26: 0 | K26: =SUM(J26) -> 0
H27: 4 | I27: تجديد و صيانة لوازم ومستلزمات المطعم | J27: 0 | K27: =SUM(J27) -> 0
A28: الإيرادات نــاقــص النفقــــات = | D28: =D25-J93 -> 0 | H28: 5 | I28: اقتناء الستائر و الأعلام و لوازم الداخلية | J28: 0 | K28: =SUM(J28) -> 0
H29: مــجــمــــــــــــــوع الـــبـــــــــــــاب 04 الأدوات والأثاث | J29: =SUM(J24:J28) -> 0 | K29: =SUM(J29) -> 0 | O29: =1024600*30/100 -> 307380
G30: باب 05 | H30: 1 | I30: لوازم التجارب | J30: 0 | K30: =SUM(J30) -> 0
H31: 2 | I31: مواد التجارب والكواشف ومواد المخابر | J31: 0 | K31: =SUM(J31) -> 0
H32: 3 | I32: الإستنساخ ، الطباشير ، الأقلام ، الطلاسات وغيرها | J32: 0 | K32: =SUM(J32) -> 0
H33: مــجــمــــــــــــــوع الـــبـــــــــــــاب 05 اللوازم البيداغوجيـــــــــة | J33: =SUM(J30:J32) -> 0 | K33: =SUM(J33) -> 0
G34: باب 06 | H34: 1 | I34: إطعام التلاميذ | K34: =SUM(J34) -> 0
I35: داخليين= العددx المدة x سعر الوجبة | J35: 0 | K35: =SUM(J35) -> 0
I36: نصف الداخليين= العددx المدة x سعر الوجبة | J36: 0 | K36: =SUM(J36) -> 0
I37: إطعام المستخدمين = العددx المدة x سعر الوجبة | J37: 0 | K37: =SUM(J37) -> 0
I38: إطعام المدعوين و آخرون= العددx المدة x سعر الوجبة | J38: 0 | K38: =SUM(J38) -> 0
H39: مــجــمــــــــــــــوع الـــبـــــــــــــاب 06 نفقات الإطعام | J39: =SUM(J35:J38) -> 0 | K39: =SUM(J39) -> 0
G40: باب 7 | H40: 1 | I40: ملابس العمال (السائق-الحاجب-عون الإستقبال-أعوان الخدمة) | J40: 0 | K40: =SUM(J40) -> 0
I41: مــجــمــــــــــــــوع الـــبـــــــــــــاب 07 الألبسة | J41: =J40 -> 0 | K41: =SUM(J41) -> 0
...

Sheet الغلاف
A2: الجمهورية الجزائرية الديمقراطية الشعبية
A4: وزارة التربية الوطنية
A6: مديرية التربية لـ :
A7: الرقم الميكانوغرافـــي :
A8: إسم المؤسســـة :
A9: رقم الحساب بالخزينــة :
A10: العنـــــــــــــوان :
A11: الدائــــــــــــــرة :
A12: البلـــــــــــــــدية:
D21: الســــنة المالـــــية | G21: 2026
B24: - القانون رقم 25-17 المؤرخ في 23 جمادى الثاني عام 1447 هـ، الموافق لـ : 2025/12/14 المتضمن قانون المالية لسنة 2026،
B25: - المرسوم التنفيذي رقم 30/26 المؤرخ في18 رجب عام 1447 هـ، الموافق لـ : 07 جانفي سنة 2026 المتضمن توزيع رخص الإلتزام واعتمادات الدفع المفتوحة بعنوان ميزانية الدولة، بموجب قانون المالية لسنة 2026 الموضوعة تحت تصرف وزير التربية الوطنية،
B26: - المرسوم التنفيذي رقم 227 - 16 المؤرخ في 25 أوت 2016 المحدد للقانون الأساسي النموذجي للمتوسطة،
B27: - المرسوم التنفيذي رقم 162 - 17 المؤرخ في 15 ماي 2017 المحدد القانون الأساسي النموذجي للثانوية،

Sheet ص1
A1: التوزيــــع حسب الأبــــواب
A2: الـعـنــــوان الأول : الإيــــــــــــــرادات
A4: الـفـــرع 1 : الإيـــــــــــــرادات
A6: الأبواب | B6: الــــعــــنــــــاويـــــــــــــن | I6: الإيرادات المالية (دج)
A7: الباب 01 | B7: الإعانات الممنوحة من طرف الدولة | I7: =ص5!I13 -> 0
A8: الباب 02 | B8: الإعانات الممنوحة من الجماعات المحلية و المؤسسات والهيئات العمومية | I8: =ص5!I15 -> 0
A9: الباب 03 | B9: الهبات و الوصايا | I9: =ص5!I17 -> 0
A10: الباب 04 | B10: إيرادات مرتبطة بنشاط المؤسسة | I10: =ص5!I19 -> 0
A11: الباب 05 | B11: إيرادات مختلفة | I11: =ص5!I21 -> 0
A12: الباب 06 | B12: إيرادات ناتجة عن حقوق التسجيل على عائلات التلاميذ | I12: =ص5!I23 -> 0
A13: الباب 07 | B13: إيرادات الاطعام | I13: =ص5!I28 -> 0
A14: الباب 08 | B14: الإعانة الخاصة بالنشاط التربوي الإستثنائي | I14: =ص5!I30 -> 0
A15: الباب 09 | B15: إيرادات خاصة بالتحسين المستمر للمستوى المنظم على المستوى الولائي، نفقات التكوين ما قبل الترقية ونفقات الامتحانات | I15: =ص6!I6 -> 0
A16: الباب 10 | B16: إيرادات خاصة بتشجيع التكوين أثناء الخدمة وعن بعد لمعلمي التعليم الابتدائي | I16: =ص6!I8 -> 0
A17: الباب 11 | B17: إيرادات خاصة بالتحسين المستمر للمستوى المنظم على المستوى الجهوي و/أو الوطني ، التكوين ما قبل الترقية، نفقات الإمتحانات | I17: =ص6!I10 -> 0
A18: مـجــمــــــــوع الـفــــرع الأول | I18: =ص6!I11 -> 0
A26: - 1 -

Sheet ص2
A5: العنوان الثاني: النفقــــــــــــات
A8: الفرع الأول : نفقــــات تسيير المصالح
A11: الأبواب | B11: المدونة الحالية للمؤسسة العمومية | H11: رخص الإلتزام (دج) | I11: اعتمادات الدفع (دج)
A12: الـــــــــــــــــــــــبــــــــــــــــــــــــــــــــاب الـــثـــــــــــــــــانـــــــــــــــــــي (T2) | B12: الباب 01 | C12: تسديد المصاريف | H12: =ص8!I12 -> 0 | I12: =ص8!J12 -> 0
B13: الباب 02 | C13: التكاليف الملحقة | H13: =ص8!I20 -> 0 | I13: =ص8!J20 -> 0
B14: الباب 03 | C14: اللوازم | H14: =ص8!I28 -> 0 | I14: =ص8!J28 -> 0
B15: الباب 04 | C15: الأدوات و الأثاث | H15: =ص9!J9 -> 0 | I15: =ص9!K9 -> 0
B16: الباب 05 | C16: اللوازم البيداغوجية | H16: =ص9!J14 -> 0 | I16: =ص9!K14 -> 0
B17: الباب 06 | C17: نفقات الإطعام | H17: =ص9!J21 -> 0 | I17: =ص9!K21 -> 0
B18: الباب 07 | C18: الألبسة | H18: =ص9!J24 -> 0 | I18: =ص9!K24 -> 0
B19: الباب 08 | C19: التأمين | H19: =ص9!J27 -> 0 | I19: =ص9!K27 -> 0
B20: الباب 09 | C20: نفقات التكوين | H20: =ص9!J34 -> 0 | I20: =ص9!K34 -> 0
B21: الباب 10 | C21: حظيرة السيارات | H21: =ص10!J12 -> 0 | I21: =ص10!K12 -> 0
B22: الباب 11 | C22: نفقات تسيير وحدات الكشف و المتابعة (UDS) | H22: =ص10!J14 -> 0 | I22: =ص10!K14 -> 0
B23: الباب 12 | C23: المكتبة المدرسية | H23: =ص10!J18 -> 0 | I23: =ص10!K18 -> 0
B24: الباب 13 | C24: النفقات المتعلقة بالنشاط الثقافي والرياضي | H24: =ص10!J22 -> 0 | I24: =ص10!K22 -> 0
B25: الباب 14 | C25: صيانة و تصليح المباني البيداغوجية والإدارية و الهياكل الملحقة | H25: =ص11!J10 -> 0 | I25: =ص11!K10 -> 0
B26: الباب 15 | C26: المصاريف القضائية والتعويضات المستحقة على عاتق الدولة | H26: =ص11!J13 -> 0 | I26: =ص11!K13 -> 0
B27: الباب 16 | C27: المصاريف الخاصة بأولمبياد المواد التعليمية | H27: =ص11!J18 -> 0 | I27: =ص11!K18 -> 0
A28: مجموع الفرع الأول | H28: =ص11!J19 -> 0 | I28: =ص11!K19 -> 0
A32: - 2 -

Sheet ص3
A5: الفرع الثاني: نفقات تسيير أقسام الرياضة و الدراسة
A8: الأبواب | B8: المدونة الحالية للمؤسسة العمومية | I8: رخص الإلتزام (دج) | J8: اعتمادات الدفع (دج)
A9: الباب الثاني (T2) | B9: باب وحيد | C9: نفقات تسيير أقسام الرياضة والدراسة | I9: =ص12!J9 -> 0 | J9: =ص12!K9 -> 0
A10: مجموع الفرع الثاني | I10: =ص12!J11 -> 0 | J10: =ص12!K11 -> 0
A13: الفرع الثالث: نفقات ذات طابع خاص
A16: الأبواب | B16: المدونة الحالية للمؤسسة العمومية | I16: رخص البرنامج | J16: اعتمادات الدفع
A17: الباب الثاني (T2) | B17: باب وحيد | C17: نفقات النشاط التربوي الإستثنائي | I17: =ص12!J19 -> 0 | J17: =ص12!K19 -> 0
A18: مجموع الباب الثاني (T2) لنفقات ذات طابع خاص | I18: =ص12!J19 -> 0 | J18: =ص12!K19 -> 0
A19: الباب الرابع (T4) | B19: باب 01 | C19: المنحة المدرسية للتجهيز | I19: =ص12!J21 -> 0 | J19: =ص12!K21 -> 0
B20: باب 02 | C20: نفقات الكتاب المدرسي | I20: =ص12!J24 -> 0 | J20: =ص12!K24 -> 0
A21: مجموع الباب الرابع (T4) لنفقات ذات طابع خاص | I21: =ص12!J26 -> 0 | J21: =ص12!K26 -> 0
A22: مجموع الفرع الثالث | I22: =ص12!J28 -> 0 | J22: =ص12!K28 -> 0
A27: - 3 -

Sheet ص4
A34: - 4 -

Sheet ص5
A3: العنوان الأول: الإيــــــــــرادات
A5: الفرع الأول: الإيــــــــــرادات
A7: الأبواب | B7: الـــــعــنــــــــــــاويــــــــــــــــن | I7: الإعتمادات المخصصة (دج)
A8: الباب 01 | C8: الإعانات الممنوحة من طرف الدولة
B9: المادة 01 | C9: إعانات تسيير المصالح | I9: =الفهرس!D6 -> 0
B10: المادة 02 | C10: منح الداخلي ونصف الداخلي والتجهيز | I10: =الفهرس!D7 -> 0
B11: المادة 03 | C11: منح الداخلي ونصف الداخلي والتجهيز | I11: =الفهرس!D8 -> 0
B12: المادة 04 | C12: الإعانة الخاصة بأولمبياد المواد التعليمية | I12: =الفهرس!D9 -> 0
C13: مــجــمــــــــــــــوع الـــبـــــــــــــاب 01 | I13: =SUM(I9:I12) -> 0
A14: الباب 02 | B14: المادة وحيدة | C14: الإعانات الممنوحة من الجماعات المحلية والمؤسسات والهيئات العمومية | I14: =الفهرس!D11 -> 0
C15: مــجــمــــــــــــــوع الـــبـــــــــــــاب 02 | I15: =+I14 -> 0
A16: الباب 03 | B16: المادة وحيدة | C16: الهبات و الوصايا | I16: =الفهرس!D12 -> 0
C17: مــجــمــــــــــــــوع الـــبـــــــــــــاب 03 | I17: =+I16 -> 0
A18: الباب 04 | B18: المادة وحيدة | C18: إيرادات مرتبطة بنشاط المؤسسة | I18: =الفهرس!D13 -> 0
C19: مــجــمــــــــــــــوع الـــبـــــــــــــاب 04 | I19: =+I18 -> 0
A20: الباب 05 | B20: المادة وحيدة | C20: إيرادات مختلفة | I20: =الفهرس!D14 -> 0
C21: مــجــمــــــــــــــوع الـــبـــــــــــــاب 05 | I21: =+I20 -> 0
A22: الباب 06 | B22: المادة وحيدة | C22: إيرادات ناتجة عن حقوق التسجيل وعائلات التلاميذ | I22: =الفهرس!D15 -> 0
C23: مــجــمــــــــــــــوع الـــبـــــــــــــاب 06 | I23: =+I22 -> 0
A24: الباب 07 | C24: إيرادات الإطعام
B25: المادة 01 | C25: =الفهرس!C16 -> مساهمات عائلات التلاميذ | I25: =الفهرس!D16 -> 0
B26: المادة 02 | C26: =الفهرس!C17 -> إيرادات ناتجة عن إطعام مستخدمي قطاع التربية | I26: =الفهرس!D17 -> 0
B27: المادة 03 | C27: =الفهرس!C18 -> إيرادات ناتجة عن إطعام تلاميذ مؤسسات أخرى، المدعوين وآخرون | I27: =الفهرس!D18 -> 0
C28: مــجــمــــــــــــــوع الـــبـــــــــــــاب 07 | I28: =SUM(I25:I27) -> 0
A29: الباب 08 | C29: =الفهرس!C20 -> الإعانة الخاصة بالنشاط التربوي الإستثنائي | I29: =الفهرس!D20 -> 0
C30: مــجــمــــــــــــــوع الـــبـــــــــــــاب 08 | I30: =SUM(I29) -> 0
A32: - 5 -

Sheet ص6
A4: الأبواب | B4: الـــــعــنــــــــــــاويــــــــــــــــن | I4: الإعتمادات المخصصة (دج)
A5: الباب 09 | B5: المادة وحيدة | C5: إيرادات خاصة بالتحسين المستمر للمستوى المنظم على المستوى الولائي، نفقات التكوين ما قبل الترقية ونفقات الامتحانات | I5: =الفهرس!D21 -> 0
C6: مــجــمــــــــــــــوع الـــبـــــــــــــاب 09 | I6: =SUM(I5) -> 0
A7: الباب 10 | B7: المادة وحيدة | C7: إيرادات خاصة بتشجيع التكوين أثناء الخدمة و عن بعد لمعلمي التعليم الابتدائي | I7: =الفهرس!D22 -> 0
C8: مــجــمــــــــــــــوع الـــبـــــــــــــاب 10 | I8: =SUM(I7) -> 0
A9: الباب 11 | B9: المادة وحيدة | C9: إيرادات خاصة بالتحسين المستمر للمستوى المنظم على المستوى الجهوي و/أو الوطني ، التكوين ما قبل الترقية ، نفقات الإمتحانات | I9: =الفهرس!D23 -> 0
C10: مــجــمــــــــــــــوع الـــبـــــــــــــاب 11 | I10: =SUM(I9) -> 0
A11: مجموع الفرع الأول : الإيرادات | I11: =ص5!I13+ص5!I15+ص5!I17+ص5!I19+ص5!I21+ص5!I23+ص5!I28+ص5!I30+ص6!I6+ص6!I8+ص6!I10 -> 0
A13: مجموع العنوان الأول : الإيرادات | I13: =I11+I16 -> 0
A32: - 6 -

Sheet ص7
A34: - 7 -

Sheet ص8
A3: العنوان الثاني: النفقات
A6: الفرع الأول: نفقات تسيير المصالح
A8: الأبواب | B8: المدونة الحالية للمؤسسة العمومية | I8: رخص الإلتزام (دج) | J8: اعتمادات الدفع (دج)
A9: الــــــــــــــــبــــــــــــــاب الـــــــثـــــــــــــــــــانــــــــي (T2) | B9: باب 01 | D9: تسديد المصاريف
C10: المادة 01 | D10: مصاريف المهام و التنقلات والاستقبالات داخل التراب الوطني والخرجات البيداغوجية و كذا خارج التراب الوطني بالنسبة للمشاركين في أولمبياد التعليمية | I10: =الفهرس!J6 -> 0 | J10: =الفهرس!K6 -> 0
C11: المادة 02 | D11: مصاريف الدراسة، الخبرة، المحامون والمحضرون القضائيون | I11: =الفهرس!J7 -> 0 | J11: =الفهرس!K7 -> 0
B12: مــجــمــــــــــــــوع الـــبـــــــــــــاب 1 | I12: =SUM(I10:I11) -> 0 | J12: =SUM(J10:J11) -> 0
B13: باب 02 | D13: التكاليف الملحقة
C14: المادة 01 | D14: الماء، الكهرباء و الغاز، الوقود، والطاقة الشمسية | I14: =الفهرس!J10 -> 0 | J14: =الفهرس!K10 -> 0
C15: المادة 02 | D15: مصاريف البريد والمواصلات (اتاوات الهاتف، التلكس، الانترنيت والرسوم المختلفة ) | I15: =الفهرس!J11 -> 0 | J15: =الفهرس!K11 -> 0
C16: المادة 03 | D16: مصاريف الإعلان في الصحف | I16: =الفهرس!J12 -> 0 | J16: =الفهرس!K12 -> 0
C17: المادة 04 | D17: تعويض مصاريف الاستهلاك المنزلي للكهرباء و الغاز بنسبة 50% للجنوب الكبير | I17: =الفهرس!J13 -> 0 | J17: =الفهرس!K13 -> 0
C18: المادة 05 | D18: اقتناء و تركيب لواحق الهاتف والربط بالأنترنيت | I18: =الفهرس!J14 -> 0 | J18: =الفهرس!K14 -> 0
C19: المادة 06 | D19: تأمين المباني | I19: =الفهرس!J15 -> 0 | J19: =الفهرس!K15 -> 0
B20: مــجــمــــــــــــــوع الـــبـــــــــــــاب 2 | I20: =SUM(I14:I19) -> 0 | J20: =SUM(J14:J19) -> 0
B21: باب 03 | D21: اللوازم
C22: المادة 01 | D22: اقتناء لوازم المكتب | I22: =الفهرس!J17 -> 0 | J22: =الفهرس!K17 -> 0
C23: المادة 02 | D23: مستهلكات وبرامج الإعلام الآلي | I23: =الفهرس!J18 -> 0 | J23: =الفهرس!K18 -> 0
C24: المادة 03 | D24: مصاريف النسخ والطبع | I24: =الفهرس!J19 -> 0 | J24: =الفهرس!K19 -> 0
C25: المادة 04 | D25: البياضة | I25: =الفهرس!J20 -> 0 | J25: =الفهرس!K20 -> 0
C26: المادة 05 | D26: =الفهرس!I21 -> المواد الصيدلانية ومواد الأخرى | I26: =الفهرس!J21 -> 0 | J26: =الفهرس!K21 -> 0
C27: المادة 06 | D27: مواد التنظيف | I27: =الفهرس!J22 -> 0 | J27: =الفهرس!K22 -> 0
B28: مــجــمــــــــــــــوع الـــبـــــــــــــاب 3 | I28: =SUM(I22:I27) -> 0 | J28: =SUM(J22:J27) -> 0
A30: - 8 -

Sheet ص9
A2: الأبواب | B2: المدونة الحالية للمؤسسة العمومية | J2: رخص الإلتزام (دج) | K2: اعتمادات الدفع (دج)
A3: الــــــــــــــــبــــــــــــــاب الـــــــثـــــــــــــــــــانــــــــي (T2) | B3: الباب 04 | D3: الأدوات والأثاث
C4: المادة 01 | D4: تجديد وصيانة أدوات وأثاث المكاتب والعتاد المدرسي | J4: =الفهرس!J24 -> 0 | K4: =الفهرس!K24 -> 0
C5: المادة 02 | D5: اقتناء و صيانة أجهزة الإعلام الآلي | J5: =الفهرس!J25 -> 0 | K5: =الفهرس!K25 -> 0
C6: المادة 03 | D6: اقتناء وصيانة أدوات الوقاية والأمن | J6: =الفهرس!J26 -> 0 | K6: =الفهرس!K26 -> 0
C7: المادة 04 | D7: تجديد و صيانة لوازم ومستلزمات المطعم | J7: =الفهرس!J27 -> 0 | K7: =الفهرس!K27 -> 0
C8: المادة 05 | D8: اقتناء الستائر و الأعلام و لوازم الداخلية | J8: =الفهرس!J28 -> 0 | K8: =الفهرس!K28 -> 0
B9: مــجــمــــــــــــــوع الـــبـــــــــــــاب 4 | J9: =SUM(J4:J8) -> 0 | K9: =SUM(K4:K8) -> 0
B10: الباب 05 | D10: اللوازم البيداغوجيـــــــــة
C11: المادة 01 | D11: لوازم التجارب | J11: =الفهرس!J30 -> 0 | K11: =الفهرس!K30 -> 0
C12: المادة 02 | D12: مواد التجارب والكواشف ومواد المخابر | J12: =الفهرس!J31 -> 0 | K12: =الفهرس!K31 -> 0
C13: المادة 03 | D13: الإستنساخ ، الطباشير ، الأقلام ، الطلاسات وغيرها | J13: =الفهرس!J32 -> 0 | K13: =الفهرس!K32 -> 0
B14: مــجــمــــــــــــــوع الـــبـــــــــــــاب 5 | J14: =SUM(J11:J13) -> 0 | K14: =SUM(K11:K13) -> 0
B15: الباب 06 | C15: مادة وحيدة | D15: نفقات الإطعام
D16: إطعام التلاميذ
E17: الداخليين = العدد x المدة x سعر الوجبة | J17: =الفهرس!J35 -> 0 | K17: =الفهرس!K35 -> 0
E18: نصف الداخليين = العدد x المدة x سعر الوجبة | J18: =الفهرس!J36 -> 0 | K18: =الفهرس!K36 -> 0
D19: إطعام المستخدمين = العددx المدة x سعر الوجبة | J19: =الفهرس!J37 -> 0 | K19: =الفهرس!K37 -> 0
D20: إطعام المدعوين و آخرون= العددx المدة x سعر الوجبة | J20: =الفهرس!J38 -> 0 | K20: =الفهرس!K38 -> 0
B21: مــجــمــــــــــــــوع الـــبـــــــــــــاب 6 | J21: =SUM(J16:J20) -> 0 | K21: =SUM(K16:K20) -> 0
B22: الباب 07 | C22: مادة وحيدة | D22: الألبسة
D23: ملابس العمال (السائق، الحاجب، عون الإستقبال، أعوان الخدمات) | J23: =الفهرس!J40 -> 0 | K23: =الفهرس!K40 -> 0
B24: مــجــمــــــــــــــوع الـــبـــــــــــــاب 7 | J24: =SUM(J23) -> 0 | K24: =SUM(K23) -> 0
B25: الباب 08 | C25: مادة وحيدة | D25: التأمين
D26: تأمين التلاميذ أثناء الخرجات البيداغوجية | J26: =الفهرس!J42 -> 0 | K26: =الفهرس!K42 -> 0
B27: مــجــمــــــــــــــوع الـــبـــــــــــــاب 8 | J27: =SUM(J26) -> 0 | K27: =SUM(K26) -> 0
B28: الباب 09 | D28: نفقات التكوين
C29: المادة 01 | D29: مصاريف التكوين والتحسين المستمرللمستوى المنظم على المستوى الولائي | J29: =الفهرس!J44 -> 0 | K29: =الفهرس!K44 -> 0
C30: المادة 02 | D30: نفقات التكوين ما قبل الترقية على مستوى الولائي | J30: =الفهرس!J45 -> 0 | K30: =الفهرس!K45 -> 0
C31: المادة 03 | D31: نفقات الامتحانات و المسابقات المهنية على المستوى الولائي | J31: =الفهرس!J46 -> 0 | K31: =الفهرس!K46 -> 0
C32: المادة 04 | D32: تشجيع التكوين أثناء الخدمة و عن بعد لمعلمي التعليم الإبتدائي | J32: =الفهرس!J47 -> 0 | K32: =الفهرس!K47 -> 0
C33: المادة 05 | D33: نفقات التكوين الخاصة للتحسين المستمر للمستوى المنظم على المستوى الجهوي و/أو الوطني، التكوين ما قبل الترقية، نفقات الإمتحانات | J33: =الفهرس!J48 -> 0 | K33: =الفهرس!K48 -> 0
B34: مــجــمــــــــــــــوع الـــبـــــــــــــاب 09 | J34: =SUM(J29:J33) -> 0 | K34: =SUM(K29:K33) -> 0
A36: ـ 09 ـ

Sheet ص10
A2: الأبواب | B2: المدونة الحالية للمؤسسة العمومية | J2: رخص الإلتزام (دج) | K2: اعتمادات الدفع (دج)
A3: الــــــــــــــــبــــــــــــــاب الـــــــثـــــــــــــــــــانــــــــي (T2) | B3: الباب 10 | D3: حظيرة السيارات
C4: المادة 01 | D4: اقتناء وتجديد السيارات | J4: =الفهرس!J50 -> 0 | K4: =الفهرس!K50 -> 0
C5: المادة 02 | D5: الوقود والزيوت | J5: =الفهرس!J51 -> 0 | K5: =الفهرس!K51 -> 0
C6: المادة 03 | D6: صيانة وتصليح و شحن السيارات وشراء قطع الغيار | J6: =الفهرس!J52 -> 0 | K6: =الفهرس!K52 -> 0
C7: المادة 04 | D7: اقتناء العجلات | J7: =الفهرس!J53 -> 0 | K7: =الفهرس!K53 -> 0
C8: المادة 05 | D8: مصاريف الترقيم والتعريف | J8: =الفهرس!J54 -> 0 | K8: =الفهرس!K54 -> 0
C9: المادة 06 | D9: تأمين السيارات | J9: =الفهرس!J55 -> 0 | K9: =الفهرس!K55 -> 0
C10: المادة 07 | D10: مصاريف اقتناء قسيمة السيارات | J10: =الفهرس!J56 -> 0 | K10: =الفهرس!K56 -> 0
C11: المادة 08 | D11: مصاريف المراقبة التقنية للسيارات | J11: =الفهرس!J57 -> 0 | K11: =الفهرس!K57 -> 0
B12: مــجــمــــــــــــــوع الـــبـــــــــــــاب 10 | J12: =SUM(J4:J11) -> 0 | K12: =SUM(K4:K11) -> 0
B13: الباب 11 | C13: المادة وحيدة | D13: نفقات تسيير وحدات الكشف والمتابعة (UDS) | J13: =الفهرس!J59 -> 0 | K13: =الفهرس!K59 -> 0
B14: مــجــمــــــــــــــوع الـــبـــــــــــــاب 11 | J14: =SUM(J13) -> 0 | K14: =SUM(K13) -> 0
B15: الباب 12 | D15: المكتبة المدرسية
C16: المادة 01 | D16: شراء كتب ومجلات تربوية | J16: =الفهرس!J61 -> 0 | K16: =الفهرس!K61 -> 0
C17: المادة 02 | D17: الإشتراك في المجلات والدوريات البيداغوجية | J17: =الفهرس!J62 -> 0 | K17: =الفهرس!K62 -> 0
B18: مــجــمــــــــــــــوع الـــبـــــــــــــاب 12 | J18: =SUM(J16:J17) -> 0 | K18: =SUM(K16:K17) -> 0
B19: الباب 13 | D19: النفقات المتعلقة بالنشاط الثقافي والرياضي
C20: المادة 01 | D20: النفقات المتعلقة بالنشاط الثقافي | J20: =الفهرس!J64 -> 0 | K20: =الفهرس!K64 -> 0
C21: المادة 02 | D21: النفقات المتعلقة بالنشاط الرياضي | J21: =الفهرس!J65 -> 0 | K21: =الفهرس!K65 -> 0
B22: مــجــمــــــــــــــوع الـــبـــــــــــــاب 13 | J22: =SUM(J20:J21) -> 0 | K22: =SUM(K20:K21) -> 0
A31: -10 -

Sheet ص11
A4: الأبواب | B4: المدونة الحالية للمؤسسة العمومية | J4: رخص الإلتزام (دج) | K4: اعتمادات الدفع (دج)
A5: الـــــــــبـــــــــاب الــــثـــــــــــانــــــي (T2) | B5: الباب 14 | D5: صيانة وتصليح المباني البيداغوجية والإدارية و الهياكل الملحقة
C6: المادة 01 | D6: صيانة وتصليح المباني البيدغوجية والإدارية و الهياكل الملحقة | J6: =الفهرس!J67 -> 0 | K6: =الفهرس!K67 -> 0
C7: المادة 02 | D7: اقتناء مواد البناء، الترصيص، الخردوات، كهرباء، التدفئة التكييف وأدوات الصيانة الصغيرة | J7: =الفهرس!J68 -> 0 | K7: =الفهرس!K68 -> 0
C8: المادة 03 | D8: صيانة المساحات الخضراء والمسالك | J8: =الفهرس!J69 -> 0 | K8: =الفهرس!K69 -> 0
C9: المادة 04 | D9: مصاريف النقل (الخردوات و المهملات، ...) | J9: =الفهرس!J70 -> 0 | K9: =الفهرس!K70 -> 0
B10: مــجــمــــــــــــــوع الـــبـــــــــــــاب 14 | J10: =SUM(J6:J9) -> 0 | K10: =SUM(K6:K9) -> 0
B11: الباب 15 | D11: المصاريف القضائية والتعويضات المستحقة على عاتق الدولة
C12: المادة وحيدة | D12: المصاريف القضائية والتعويضات المستحقة على عاتق الدولة | J12: =الفهرس!J72 -> 0 | K12: =الفهرس!K72 -> 0
B13: مــجــمــــــــــــــوع الـــبـــــــــــــاب 15 | J13: =SUM(J12) -> 0 | K13: =SUM(K12) -> 0
B14: الباب 16 | D14: المصاريف الخاصة بأولمبياد المواد التعليمية
C15: المادة 01 | D15: إطعام المشاركين في الأولمبياد | J15: =SUM(الفهرس!J74) -> 0 | K15: =SUM(الفهرس!K74) -> 0
C16: المادة 02 | D16: المصاريف المرتبطة بالتسيير و بتوفير الوسائل البيداغوجية، و اللوازم المكتبية و البدلات الرسمية للمشاركين | J16: =SUM(الفهرس!J75) -> 0 | K16: =SUM(الفهرس!K75) -> 0
B17: مــجــمــــــــــــــوع الـــبـــــــــــــاب 16 | J17: =SUM(J15:J16) -> 0 | K17: =SUM(K15:K16) -> 0
B19: مجموع الفرع الأول : نفقات تسيير المصالح | J19: =ص8!I12+ص8!I20+ص8!I28+ص9!J9+ص9!J14+ص9!J21+ص9!J24+ص9!J27+ص9!J34+ص10!J12+ص10!J14+ص10!J18+ص10!J22+ص11!J10+ص11!J13+J17 -> 0 | K19: =ص8!J12+ص8!J20+ص8!J28+ص9!K9+ص9!K14+ص9!K21+ص9!K24+ص9!K27+ص9!K34+ص10!K12+ص10!K14+ص10!K18+ص10!K22+ص11!K10+ص11!K13+K17 -> 0
A37: -11 -

Sheet ص12
A2: الفرع الثاني: نفقات تسيير أقسام الرياضة والدراسة
A4: الأبواب | B4: المدونة الحالية للمؤسسة العمومية | J4: رخص الإلتزام (دج) | K4: اعتمادات الدفع (دج)
A5: الـــبـــــاب الــثــانـي (T2) | B5: الباب وحيد | D5: نفقات تسيير أقسام الرياضة والدراسة
C6: المادة 01 | D6: مصاريف الإطعام | J6: =الفهرس!J78 -> 0 | K6: =الفهرس!K78 -> 0
C7: المادة 02 | D7: نقل وتأمين التلاميذ | J7: =الفهرس!J79 -> 0 | K7: =الفهرس!K79 -> 0
C8: المادة 03 | D8: إقتناء الأدوات واللوازم الرياضية والبيداغوجية | J8: =الفهرس!J80 -> 0 | K8: =الفهرس!K80 -> 0
B9: مــجــمــــــــــــــوع الـــبـــــــــــــاب | J9: =SUM(J6:J8) -> 0 | K9: =SUM(K6:K8) -> 0
B11: مجموع الفرع الثاني : نفقات تسيير أقسام الرياضة والدراسة | J11: =J9 -> 0 | K11: =K9 -> 0
A13: الفرع الثالث : نفقات ذات طابع خاص
A15: الأبواب | B15: المدونة الحالية للمؤسسة العمومية | J15: رخص البرنامج | K15: اعتمادات الدفع
A16: الـــبـــــاب الــثــانـي (T2) | B16: باب وحيد | D16: نفقات النشاط التربوي الإستثنائي
C17: المادة 01 | D17: الإطعام | J17: =الفهرس!J83 -> 0 | K17: =الفهرس!K83 -> 0
C18: المادة 02 | D18: مصاريف الإقامة والتمدرس | J18: =الفهرس!J84 -> 0 | K18: =الفهرس!K84 -> 0
B19: مجموع الباب الثاني (T2) لنفقات ذات طابع خاص | J19: =SUM(J17:J18) -> 0 | K19: =SUM(K17:K18) -> 0
A20: الـــبـــــاب الـرابع (T4) | B20: الباب 01 | D20: منحة المدرسية للتجهيز
C21: المادة وحيدة | D21: منحة التجهيز لفائدة التلاميذ | J21: =الفهرس!J88 -> 0 | K21: =الفهرس!K88 -> 0
B22: مجموع الباب 1 | J22: =SUM(J21) -> 0 | K22: =SUM(K21) -> 0
B23: الباب 02 | D23: نفقات الكتاب المدرسي
C24: المادة وحيدة | D24: تسديد مستحقات الديوان الوطني للمطبوعات المدرسية من بيع الكتاب المدرسي | J24: =الفهرس!J91 -> 0 | K24: =الفهرس!K91 -> 0
B25: مجموع الباب 2 | J25: =SUM(J24:J24) -> 0 | K25: =SUM(K24:K24) -> 0
B26: مجموع الباب الرابع (T4) لنفقات ذات طابع خاص | J26: =J22+J25 -> 0 | K26: =K22+K25 -> 0
B28: مجموع الفرع الثالث : نفقات ذات طابع خاص | J28: =J19+J26 -> 0 | K28: =K19+K26 -> 0
A30: -12 -

Sheet ص13
A6: حوصلة عامة للإيرادات والنفقات
H9: الإيرادات المالية (دج)
A10: العنوان الأول : الإيرادات | C10: الفرع 01 : الإيرادات | H10: =ص1!I18 -> 0
C11: الفرع 02 : الإيرادات ذات طابع خاص | H11: =ص1!I24 -> 0
A12: مجموع العنوان الأول : الإيرادات | H12: =SUM(H10:I11) -> 0
H14: رخص الإلتزام (دج) | I14: اعتمادات الدفع (دج)
A15: العنوان الثاني : النفقات | C15: الفرع الأول : نفقات تسيير المصالح | H15: =ص11!J19 -> 0 | I15: =ص11!K19 -> 0
C16: الفرع الثاني: نفقات تسيير أقسام رياضة و دراسة | H16: =ص12!J11 -> 0 | I16: =ص12!K11 -> 0
C17: الفرع الثالث: نفقات ذات طابع خاص | H17: =ص12!J28 -> 0 | I17: =ص12!K28 -> 0
A18: مجموع العنوان الثاني : النفقات | H18: =SUM(H15:H17) -> 0 | I18: =SUM(I15:J17) -> 0
A21: لوحظ و صودق على ميزانية تسيير المؤسسة : | D21: =الغلاف!C8 -> 0 | F21: بعنوان السنة المالية : | H21: =الغلاف!G21 -> 2026 | I21: : حددت بمبلغ
A23: في الإيرادات بمبلغ يقدر بـ: | C23: صـــفر دج ، و 00 سنتيــم
A24: في النفقات بمبلغ يقدر بـ: | C24: صـــفر دج ، و 00 سنتيــم
A25: أي بفائض في الإيرادات بمبلغ يقدر بـ : | C25: =SUM(H12-I18) -> 0
A27: حرر بتيارت في :
B28: مديـــر المؤسـســــة | F28: مديـــر الـتـربـيــــــة
A33: -13 -

Sheet Cahets

Sheet chif
A1: =Feuil1!C2 -> #REF! | B1: =A2 -> #REF! | C1: =A3-B1*1000 -> #REF! | D1: =A4-A3*1000 -> #REF! | E1: =(A1-A4)*100 -> #REF! | F1: مليون | G1: ألف | H1: سنتيما واحدا | I1: دينـار واحد جـزائـري | K1: =E7&E8&E9&E10 -> #REF!
A2: =TRUNC(A1/1000000) -> #REF! | B2: =LEN(B1) -> #REF! | C2: =LEN(C1) -> #REF! | D2: =LEN(D1) -> #REF! | F2: مليونان | G2: ألفان | H2: سنتيمــان | I2: دينـاران جـزائـريان
A3: =TRUNC(A1/1000) -> #REF! | F3: ملايين | G3: آلاف | H3: سنتيمــات | I3: دنـانير جـزائـرية
A4: =TRUNC(A1) -> #REF! | F4: مليونا | G4: ألفا | H4: سنتيما | I4: دينـار جـزائـري
A5: =FIXED(E1,0) -> #REF! | F5: و
A6: =B1-TRUNC(B1/100)*100 -> #REF! | G6: واحد | H6: عشرة | I6: مئة
A7: =C1-TRUNC(C1/100)*100 -> #REF! | B7: =IF(B2=3,D13&IF(D15="","",F5&D15)&IF(D14="","",IF(B14="1",D14,F5&D14)),IF(B2=2,IF(B13="1",D14&D13,IF(B14="0",D13,D14&F5&D13)),D13)) -> #REF! | E7: =IF(B1=0," ",IF(B1=1,F1,IF( B1=2,F2,IF(AND(A6>2,A6<11),B7&" "&F3,B7&F4)))) -> #REF! | G7: إثنان | H7: عشرون | I7: مئتــان
A8: =D1-TRUNC(D1/100)*100 -> #REF! | B8: =IF(C2=3,D16&IF(D18="","",F5&D18)&IF(D17="","",IF(B17="1",D17,F5&D17)),IF(C2=2,IF(B16="1",D17&D16,IF(B17="0",D16,D17&F5&D16)),D16)) -> #REF! | E8: =IF(B1=0," ",IF(C1=0," "," و "))&IF(C1=0," ",IF(C1=1,G1,IF(C1=2,G2,IF(AND(A7>2,A7<11),B8&G3,B8&G4)))) -> #REF! | G8: ثلاثة | H8: ثلاثون | I8: ثلاثمئة
B9: =IF(D2=3,D19&IF(D21="","",F5&D21)&IF(D20="","",IF(B20="1",F5&D20,F5&D20)),IF(D2=2,IF(B19="1",D20&D19,IF(B20="0",D19,D20&F5&D19)),D19)) -> #REF! | E9: =IF(B1+C1=0," ",IF(D1=0," "," و "))&IF(D1=0,IF(B1+C1=0," ","ديــنار جزائري "),IF(D1=1,I1,IF(D1=2,I2,IF(AND(A8>2,A8<11),B9&I3,B9&I4)))) -> #REF! | G9: أربعة | H9: أربعون | I9: أربعمئة
B10: =E1 -> #REF! | E10: =IF(B1+C1+D1=0," ",IF(E1=0," "," و "))&IF(E1=0," ",IF(A5=1,H1,IF( A5="2",H2,IF(AND(E1>2,E1<11),A5&H3,A5&H4)))) -> #REF! | G10: خمسة | H10: خمسون | I10: خمسمئة
G11: ستة | H11: ستون | I11: ستمئة
G12: سبعة | H12: سبعون | I12: سبعمئة
B13: =IF(B1>0,MID(B1,1,1),"") -> #REF! | C13: =IF(B13="","",IF(B13="0","",INDEX(nb,B13,B2))) -> #REF! | D13: =C13 -> #REF! | G13: ثمانية | H13: ثمانون | I13: ثمانمئة
B14: =IF(B1>0,MID(B1,2,1),"") -> #REF! | C14: =IF(B14="","",IF(B14="0","",INDEX(nb,B14,B2-1))) -> #REF! | D14: =IF(B2=2,IF(B13="1",IF(B14="1","إحـدى",IF(B14="2","إثـنا ",C14)),C14),C14) -> #REF! | G14: تسعة | H14: تسعون | I14: تسعمئة
B15: =IF(B1>0,MID(B1,3,1),"") -> #REF! | C15: =IF(B15="","",IF(B15="0","",INDEX(nb,B15,B2-2))) -> #REF! | D15: =IF(B14="1",IF(B15="1","إحـدى",IF(B15="2","إثـنا ",C15)),C15) -> #REF!
B16: =IF(C1>0,MID(C1,1,1),"") -> #REF! | C16: =IF(B16="","",IF(B16="0","",INDEX(nb,B16,C2))) -> #REF! | D16: =C16 -> #REF!
B17: =IF(C1>0,MID(C1,2,1),"") -> #REF! | C17: =IF(B17="","",IF(B17="0","",INDEX(nb,B17,C2-1))) -> #REF! | D17: =IF(C2=2,IF(B16="1",IF(B17="1","إحـدى",IF(B17="2","إثـنا ",C17)),C17),C17) -> #REF!
B18: =IF(C1>0,MID(C1,3,1),"") -> #REF! | C18: =IF(B18="","",IF(B18="0","",INDEX(nb,B18,C2-2))) -> #REF! | D18: =IF(B17="1",IF(B18="1","إحـدى",IF(B18="2","إثـنا ",C18)),C18) -> #REF!
B19: =IF(D1>0,MID(D1,1,1),"") -> #REF! | C19: =IF(B19="","",IF(B19="0","",INDEX(nb,B19,D2))) -> #REF! | D19: =C19 -> #REF!
B20: =IF(D1>0,MID(D1,2,1),"") -> #REF! | C20: =IF(B20="","",IF(B20="0","",INDEX(nb,B20,D2-1))) -> #REF! | D20: =IF(D2=2,IF(B19="1",IF(B20="1","إحـدى",IF(B20="2","إثـنا ",C20)),C20),C20) -> #REF!
B21: =IF(D1>0,MID(D1,3,1),"") -> #REF! | C21: =IF(B21="","",IF(B21="0","",INDEX(nb,B21,D2-2))) -> #REF! | D21: =IF(B20="1",IF(B21="1","إحـدى",IF(B21="2","إثـنا ",C21)),C21) -> #REF!
A23: =TRUNC(#REF!/1000000) -> #REF! | B23: =LEN(#REF!) -> #REF! | C23: =LEN(#REF!) -> #REF! | D23: =LEN(#REF!) -> #REF! | F23: مليونان | G23: ألفان | H23: سنتيمــان | I23: دينـاران جـزائـريان
A24: =TRUNC(#REF!/1000) -> #REF! | F24: ملايين | G24: آلاف | H24: سنتيمــات | I24: دنـانير جـزائـرية
A25: =TRUNC(#REF!) -> #REF! | F25: مليونا | G25: ألفا | H25: سنتيما | I25: دينـار جـزائـري
A26: =FIXED(#REF!,0) -> #REF! | F26: و
A27: =#REF!-TRUNC(#REF!/100)*100 -> #REF! | G27: واحد | H27: عشرة | I27: مئة
A28: =#REF!-TRUNC(#REF!/100)*100 -> #REF! | B28: =IF(B23=3,D34&IF(D36="","",F26&D36)&IF(D35="","",IF(B35="1",D35,F26&D35)),IF(B23=2,IF(B34="1",D35&D34,IF(B35="0",D34,D35&F26&D34)),D34)) -> #REF! | E28: =IF(#REF!=0," ",IF(#REF!=1,#REF!,IF(#REF!= 2,F23,IF(AND(A27>2,A27<11),B28&" "&F24,B28&F25)))) -> #REF! | G28: إثنان | H28: عشرون | I28: مئتــان
A29: =#REF!-TRUNC(#REF!/100)*100 -> #REF! | B29: =IF(C23=3,D37&IF(D39="","",F26&D39)&IF(D38="","",IF(B38="1",D38,F26&D38)),IF(C23=2,IF(B37="1",D38&D37,IF(B38="0",D37,D38&F26&D37)),D37)) -> #REF! | E29: =IF(#REF!=0," ",IF(#REF!=0," "," و "))&IF(#REF!=0," ",IF(#REF!=1,#REF!,IF(#REF!=2,G23,IF(AND(A28>2,A28<11),B29&G24,B29&G25)))) -> #REF! | G29: ثلاثة | H29: ثلاثون | I29: ثلاثمئة
B30: =IF(D23=3,D40&IF(D42="","",F26&D42)&IF(D41="","",IF(B41="1",F26&D41,F26&D41)),IF(D23=2,IF(B40="1",D41&D40,IF(B41="0",D40,D41&F26&D40)),D40)) -> #REF! | E30: =IF(#REF!+#REF!=0," ",IF(#REF!=0," "," و "))&IF(#REF!=0,IF(#REF!+#REF!=0," ","ديــنار جزائري "),IF(#REF!=1,#REF!,IF(#REF!=2,I23,IF(AND(A29>2,A29<11),B30&I24,B30&I25)))) -> #REF! | G30: أربعة | H30: أربعون | I30: أربعمئة
B31: =#REF! -> #REF! | E31: =IF(#REF!+#REF!+#REF!=0," ",IF(#REF!=0," "," و "))&IF(#REF!=0," ",IF(A26=1,#REF!,IF( A26="2",H23,IF(AND(#REF!>2,#REF!<11),A26&H24,A26&H25)))) -> #REF! | G31: خمسة | H31: خمسون | I31: خمسمئة
G32: ستة | H32: ستون | I32: ستمئة
G33: سبعة | H33: سبعون | I33: سبعمئة
B34: =IF(#REF!>0,MID(#REF!,1,1),"") -> #REF! | C34: =IF(B34="","",IF(B34="0","",INDEX(nb,B34,B23))) -> #REF! | D34: =C34 -> #REF! | G34: ثمانية | H34: ثمانون | I34: ثمانمئة
B35: =IF(#REF!>0,MID(#REF!,2,1),"") -> #REF! | C35: =IF(B35="","",IF(B35="0","",INDEX(nb,B35,B23-1))) -> #REF! | D35: =IF(B23=2,IF(B34="1",IF(B35="1","إحـدى",IF(B35="2","إثـنا ",C35)),C35),C35) -> #REF! | G35: تسعة | H35: تسعون | I35: تسعمئة
B36: =IF(#REF!>0,MID(#REF!,3,1),"") -> #REF! | C36: =IF(B36="","",IF(B36="0","",INDEX(nb,B36,B23-2))) -> #REF! | D36: =IF(B35="1",IF(B36="1","إحـدى",IF(B36="2","إثـنا ",C36)),C36) -> #REF!
B37: =IF(#REF!>0,MID(#REF!,1,1),"") -> #REF! | C37: =IF(B37="","",IF(B37="0","",INDEX(nb,B37,C23))) -> #REF! | D37: =C37 -> #REF!
B38: =IF(#REF!>0,MID(#REF!,2,1),"") -> #REF! | C38: =IF(B38="","",IF(B38="0","",INDEX(nb,B38,C23-1))) -> #REF! | D38: =IF(C23=2,IF(B37="1",IF(B38="1","إحـدى",IF(B38="2","إثـنا ",C38)),C38),C38) -> #REF!
B39: =IF(#REF!>0,MID(#REF!,3,1),"") -> #REF! | C39: =IF(B39="","",IF(B39="0","",INDEX(nb,B39,C23-2))) -> #REF! | D39: =IF(B38="1",IF(B39="1","إحـدى",IF(B39="2","إثـنا ",C39)),C39) -> #REF!
B40: =IF(#REF!>0,MID(#REF!,1,1),"") -> #REF! | C40: =IF(B40="","",IF(B40="0","",INDEX(nb,B40,D23))) -> #REF! | D40: =C40 -> #REF!
B41: =IF(#REF!>0,MID(#REF!,2,1),"") -> #REF! | C41: =IF(B41="","",IF(B41="0","",INDEX(nb,B41,D23-1))) -> #REF! | D41: =IF(D23=2,IF(B40="1",IF(B41="1","إحـدى",IF(B41="2","إثـنا ",C41)),C41),C41) -> #REF!
...

Sheet Feuil1
C2: =ص13!#REF! -> #REF! | E2: =ص13!#REF!-ص13!H12 -> #REF!
C4: =chif!K1 -> #REF!
C7: =ص13!H12 -> 0
C9: =chif!K55
C12: =E2 -> #REF!
C14: =chif!K109 -> #REF!

Sheet ص14
A1: قائمة ملاحـــــق الميزانية الأولية للسنة المالية | I1: =الغلاف!G21 -> 2026
A3: 1 | B3: مستخرج من محضر مجلس التوجيه والتسيير للثانويات، أو مجلس التربية والتسيير للمتوسطات .
A4: 2 | B4: التقرير الإداري لمدير المؤسسة، يوضح فيه الجوانب المختلفة التي تمت على أساسها تقدير الإيرادات والنفقات .
A5: 3 | B5: كشف مفصل للتلاميذ الحاضرين إلى غاية : 31/12/2023
A6: 4 | B6: وضعية التلاميذ الممنوحين استناد إلى مقرر الإستفادة الوارد من مديرية التربية .
A7: 5 | B7: بطاقة فنية نموذجية لوحدة الكشف والمتابعة .
A8: 6 | B8: وضعية حضيرة السيارات الخاصة بالمؤسسة .
A9: 7 | B9: وضعية مفصلة لشغل السكنات الوظيفية، تبين حقوق الإيجار وأعباء الإيجار الخاصة بكل شاغليها .

Sheet تقرير مدير المؤسسة
A1: الجمهورية الجزائرية الديمقراطية الشعبية
A2: وزارة التربية الوطنية
A3: مديرية التربية لولاية …………..
A4: المؤسسة : …………………
A5: تقرير رئيس المؤسسة
A6: تنفيذا وعملا بمحتوى المنشور رقم 2024/035 المؤرخ في 20 مارس 2024 المتضمن مشاريع ميزانيات المؤسسات التعليمية
A7: لسنة 2025 وإعتمادا على مقرر إعانة التسيير رقم 1496/2.2.2/2023 المنجز على مستوى مديرية التربية مصلحة المالية و الوسائل
A8: يشرفني أن أوافيكم بهذا التقربر حول إعداد مشروع ميزانية التسيير لمتوسطة زروقي ميلود تيارت سنة 2025
A9: ا - الايرادات
A10: استفادت المؤسسة من مبلغ قدره :
A11: =ص1!B7 -> الإعانات الممنوحة من طرف الدولة | C11: =SUM(ص1!I7) -> 0 | D11: حسب مقرر إعانة التسيير 2025
A12: =ص1!B10 -> إيرادات مرتبطة بنشاط المؤسسة | C12: =SUM(ص1!I10) -> 0
A13: =ص1!B12 -> إيرادات ناتجة عن حقوق التسجيل على عائلات التلاميذ | C13: =SUM(ص1!I12) -> 0 | D13: حسب البطاقة الوصغية 933 لسنة 2025/2024
A14: =ص1!B13 -> إيرادات الاطعام | C14: =ص1!I13 -> 0
A16: مجموع الايـــرادات | C16: =SUM(C11:C14) -> 0
A17: اا النفقات | B17: وزعت هذه النفقات على فروع الميزانية الثلاث كالآتي :
B18: الفرع الأول | C18: نفقات تسيير المصالح
A20: الأبواب | B20: المدونة الحالية للمؤسسات التربية | D20: رخص الإلتزام | E20: اعتمادات الدفع
A21: الباب الثاني (T2) | B21: الباب 01 | C21: تسديد المصاريف | D21: =SUM(ص2!H12) -> 0 | E21: =SUM(D21) -> 0
B22: الباب 02 | C22: التكاليف الملحقة | D22: =SUM(ص2!H13) -> 0 | E22: =SUM(D22) -> 0
B23: الباب 03 | C23: اللوازم | D23: =SUM(ص2!H14) -> 0 | E23: =SUM(D23) -> 0
B24: الباب 04 | C24: الأدوات و الأثاث | D24: =SUM(ص2!H15) -> 0 | E24: =SUM(D24) -> 0
B25: الباب 05 | C25: اللوازم البيداغوجية | D25: =SUM(ص2!H16) -> 0 | E25: =SUM(D25) -> 0
B26: الباب 06 | C26: نفقات الإطعام | D26: =SUM(ص2!H17) -> 0 | E26: =SUM(D26) -> 0
B27: الباب 07 | C27: الألبسة | D27: =SUM(ص2!H18) -> 0 | E27: =SUM(D27) -> 0
B28: الباب 08 | C28: التأمين | D28: =SUM(ص2!H19) -> 0 | E28: =SUM(D28) -> 0
B29: الباب 09 | C29: مصاريف التكوين | D29: =SUM(ص2!H20) -> 0 | E29: =SUM(D29) -> 0
B30: الباب 10 | C30: حضيرة السيارات | D30: =SUM(ص2!H21) -> 0 | E30: =SUM(D30) -> 0
B31: الباب 11 | C31: نفقات تسيير محدة الكشف و المتابعة | D31: =SUM(ص2!H22) -> 0 | E31: =SUM(D31) -> 0
B32: الباب 12 | C32: المكتبة المدرسية | D32: =SUM(ص2!H23) -> 0 | E32: =SUM(D32) -> 0
B33: الباب 13 | C33: النفقات المتعلقة بالنشاط الثقافي و الرياضي | D33: =SUM(ص2!H24) -> 0 | E33: =SUM(D33) -> 0
... B35: الباب 15 | C35: المصاريف القضائية و التعويضات المستحثة على عاتق الدولة | D35: =SUM(ص2!H26) -> 0 | E35: =SUM(D35) -> 0
B36: الباب 16 | C36: المصاريف الخاصة بأولمبياد المواد التعليمية | D36: =SUM(ص2!H27) -> 0 | E36: =SUM(ص2!I27) -> 0
B37: مجمـوع نفقات الفرع الأول | D37: =SUM(D21:D35) -> 0 | E37: =SUM(D37) -> 0
B38: الفرع الثاني: نفقات تسيير أقسام الرياضة و الدراسة | C38: نفقات تسيير أقسام الرياضة و الدراسة
A40: الأبواب | B40: المدونة الحالية للمؤسسات التربية | D40: رخص الإلتزام | E40: اعتمادات الدفع
A41: الباب الثاني T2 | B41: باب وحيد | C41: نفقات تسيير أقسام الرياضة والدراسة | D41: =SUM(ص3!I9) -> 0 | E41: =SUM(D41) -> 0
B42: مجموع الفرع الثاني | D42: =SUM(D41) -> 0 | E42: =SUM(E41) -> 0
B43: الفرع الثالث: نفقات ذات طابع خاص | C43: نفقات ذات طابع خاص
A45: الأبواب | B45: المدونة الحالية للمؤسسات التربية | D45: رخص الإلتزام | E45: اعتمادات الدفع
...

Sheet مجلس التربية
A1: الجمهورية الجزائرية الديمقراطية الشعبية
A2: وزارة الــتـــربـيــة الــوطــنـيــــة
A3: مديرية التربية لولاية ……………
A4: المؤسسة : | B4: ……………
A5: رقم الميكانوغرافي : | C5: …………….
A6: مستخرج محضـر جلســة
A7: من مجلس التربية و التسييـــر
D8: جلسة يوم :
A9: في سنة ألفين وأربعة وعشرون يوم : ...................
A10: على الساعـة : 10.00 أعضـاء مجلس التربية و التسييــر
A11: إجتمع أعضاء المجلس في مكتب المديرة :………………
A12: بصفتــه الآمر بالصرف للمؤسســـة
A14: الأعضاء الرئيسيون : | D14: الحاضــرين | E14: الوظيفة | F14: الغائبين (إعتدروا)
A15: مديــر المؤسســة | E15: مديرة المؤسسة
A16: المسييــر المالي | E16: المسير المالي
A17: مستشار التربية | E17: مستشارة تربية
A20: الأعضاء المنتخبون من زملائهم
A21: ممثـل الأساتدة | E21: أستاذ التعليم المتوسط
E22: أستاذ التعليم المتوسط
E23: أستاذ التعليم المتوسط
A24: ممثل الموظفيـن الإدارييـن (1) | E24: عون إدارة
A25: ممثل المشرفين (1) | E25: مشرفة تربوية
A26: ممثل العمال المهنييــن (1) | E26: عامل مهني مستوى 01
A27: رئيس ج أ التلاميد أو ممثله (1)
A29: إفتتحث الجلسة تحت إشراف السيدة مديرة المؤسسة بصفتها رئيسة المجلس حيث رحبت بالحاضرين ثم حولت الكلمة للسيد المقتصد
A30: حيث قام بقراءة مقرر إعتماد التسيير رقم 2023/0393 المؤرخ في 12 أفريل 2024 الذي حدد مبلغ الميزانية كالآتي :
A31: 654.590.00 موزعة على المصالح المشتركة و 4.610.00 المخصصة بالباب 05 الموجه لإستهلاكات الأقسام الدراسية
A32: , كما أنه شرح لهم أن مبلغ الميزانية قليل و ضئيل جدا مقارنة بمتطلبات المؤسسة و بعدها شرح لهم تقسيم مبلغ الأعانة
A33: مؤكدا على ضرورة تنفيذ و تحقيق مبادئ الميزانية خصوصا مبدأ السنوية .
A34: و بعدها أعطيت الكلمة لأعضاء المجلس للنقاش و التشاور كما أن مديرة المؤسسة وضحت لهم أن مبلغ إستهلاك الطاقة كبير جدا بحيث
A35: أن مبلغ الميزانية لا يغطي تكاليف الطاقة بسبب الفواتير الضخمة ناتج عن محول الطاقة ذو التوتر العالي, و بعد التشاور و النقاش
A36: المثري بين أعضاء المجلس و بعد التأكد من مبدأ التوازن بين النفقات و الإيرادات و التأكيد على إحترام مبدأ السنوية صادق أعضاء
A37: المجلس بالإجماع على مشروع ميزانية التسيير للسنة المالية 2024 مع إحترام كل ماجاء بالمنشور رقم 2023/035 المؤرخ في 20/03/2024
A38: الخاص بمشاريع ميزانيات المؤسسات التعليمية لسنة 2024
A39: و في الأخير شكرت المديرة الحضور على تلبيتهم الدعوة و على روح المسؤولية و المفاهمة التي تحلو بها و رفعت الجلسة من يومها و على الساعة
A40: الثانية عشر صباحا .
F41: مديرة المؤسسة

Sheet كشف التلاميد الحاضرين
A1: الجمهورية الجزائرية الديمقراطية الشعبية
A2: وزارة التربية الوطنية
A3: مديرية التربية لولاية …………. | G3: الرقم الميكانوغرافي : …………………
A4: متوسطة …………………….. -
A6: كشف مفصل للتلاميذ الحاضرين إلى غاية : | G6: 31 ديسمبر 2024
A8: المستوى الدراسي | B8: عدد الأفواج التربوية | C8: عدد التلاميذ الداخليين | E8: عدد التلاميذ نصف الداخليين | G8: عدد التلاميذ الخارجيين | I8: المجموع العام
C9: الذكور | D9: الاناث | E9: الذكور | F9: الاناث | G9: الذكور | H9: الاناث
A10: السنة الأولى (متوسط) | B10: 0 | C10: 0 | D10: 0 | E10: 0 | F10: 0 | I10: =SUM(C10:H10) -> 0
A11: السنة الثانية (متوسط) | B11: 0 | C11: 0 | D11: 0 | E11: 0 | F11: 0 | I11: =SUM(C11:H11) -> 0
A12: السنة الثالثة (متوسط) | B12: 0 | C12: 0 | D12: 0 | E12: 0 | F12: 0 | I12: =SUM(C12:H12) -> 0
A13: السنة الرابعة (متوسط) | B13: 0 | C13: 0 | D13: 0 | E13: 0 | F13: 0 | I13: =SUM(C13:H13) -> 0
A14: المجموع | B14: =SUM(B10:B13) -> 0 | C14: =SUM(C10:C13) -> 0 | D14: =SUM(D10:D13) -> 0 | E14: =SUM(E10:E13) -> 0 | F14: =SUM(F10:F13) -> 0 | G14: =SUM(G10:G13) -> 0 | H14: =SUM(H10:H13) -> 0 | I14: =SUM(I10:I13) -> 0
G16: حرر …………... في 07 أفريل 2024
G17: مديرة المؤسسة

Sheet وضعية مفصلة لشغل السكنات
A1: الجمهورية الجزائرية الديمقراطية الشعبية
A2: وزارة التربية الوطنية
A3: مديرية التربية لولاية ……………. | H3: عدد السكنات | K3: 5
A4: المؤسسة ……………………..- | H4: المشغولـــــة | K4: 5
A5: الرقم الميكانوغرافي : …………... | H5: الشاغــــــرة | K5: 0
A6: وضعية مفصلة لشغل السكنات الوظيفية
A7: رقم الترتيب | B7: اسم ولقب الشاغل | C7: الوظيفة (الصفة) | D7: عدد الغرف | E7: تاريخ شغل السكن | F7: رقم مقرر الإستفادة | G7: تاريخ المقرر | H7: الكراء السنوي | I7: الأعباء الملحقة سنويا | L7: ملاحظات
I8: الماء | J8: الكهرباء | K8: الغاز
A9: 01
A10: 02
A11: 03
A12: 04
A13: 05
A14: المجموع العـــــــام | H14: =SUM(H9:H13) -> 0 | I14: =SUM(I9:I13) -> 0 | J14: =SUM(J9:J13) -> 0 | K14: =SUM(K9:K13) -> 0
G15: حرر ……………. في 07 أفريل 2024
G16: تم الإطلاع عليه ومراقبته من طرف
G17: الآمر بالصرف
